BEGIN:VCALENDAR
VERSION:2.0
PRODID:-//SKI-CLUB CRONENBERG 1929 e.V. - ECPv6.15.20//NONSGML v1.0//EN
CALSCALE:GREGORIAN
METHOD:PUBLISH
X-WR-CALNAME:SKI-CLUB CRONENBERG 1929 e.V.
X-ORIGINAL-URL:https://ski-club-cronenberg.de
X-WR-CALDESC:Veranstaltungen für SKI-CLUB CRONENBERG 1929 e.V.
REFRESH-INTERVAL;VALUE=DURATION:PT1H
X-Robots-Tag:noindex
X-PUBLISHED-TTL:PT1H
BEGIN:VTIMEZONE
TZID:Europe/Paris
BEGIN:DAYLIGHT
TZOFFSETFROM:+0100
TZOFFSETTO:+0200
TZNAME:CEST
DTSTART:20200329T010000
END:DAYLIGHT
BEGIN:STANDARD
TZOFFSETFROM:+0200
TZOFFSETTO:+0100
TZNAME:CET
DTSTART:20201025T010000
END:STANDARD
BEGIN:DAYLIGHT
TZOFFSETFROM:+0100
TZOFFSETTO:+0200
TZNAME:CEST
DTSTART:20210328T010000
END:DAYLIGHT
BEGIN:STANDARD
TZOFFSETFROM:+0200
TZOFFSETTO:+0100
TZNAME:CET
DTSTART:20211031T010000
END:STANDARD
BEGIN:DAYLIGHT
TZOFFSETFROM:+0100
TZOFFSETTO:+0200
TZNAME:CEST
DTSTART:20220327T010000
END:DAYLIGHT
BEGIN:STANDARD
TZOFFSETFROM:+0200
TZOFFSETTO:+0100
TZNAME:CET
DTSTART:20221030T010000
END:STANDARD
END:VTIMEZONE
BEGIN:VEVENT
DTSTART;TZID=Europe/Paris:20211211T173000
DTEND;TZID=Europe/Paris:20211211T193000
DTSTAMP:20260425T131134
CREATED:20211128T153445Z
LAST-MODIFIED:20211128T153558Z
UID:2580-1639243800-1639251000@ski-club-cronenberg.de
SUMMARY:Fackelwanderung
DESCRIPTION:Alle  Jahre wieder …. \n… lädt der Ski Club Cronenberg zur Fackelwanderung ein. \nUm 17:30 Uhr treffen wir uns am 11. Dezember am Ehrenmal in Cronenberg und machen gemeinsam mit Fackeln eine kleine Wanderung. Anschließend treffen sich alle wieder am Ehrenmal (ca. um 18:30 Uhr)\, um bei warmen Getränken und Weckmännern die Wanderung gemütlich ausklingen zu lassen. \nDa die Veranstaltung dieses Jahr unter 2- G Bedingungen draussen statt findet\, zieht euch bitte warm und regenfest an und bringt eigene Becher mit. \nWir freuen uns auf rege Teilnahme. \nDamit wir besser planen können\, meldet euch bitte  bei mir –Lea Werbeck– an. \nSportliche Grüße \nDer Jugendausschuss SCC
URL:https://ski-club-cronenberg.de/event/fackelwanderung-4/
LOCATION:Am Ehrenmal\, Wuppertal-Cronenberg
END:VEVENT
END:VCALENDAR