BEGIN:VCALENDAR
VERSION:2.0
PRODID:-//SKI-CLUB CRONENBERG 1929 e.V. - ECPv6.15.20//NONSGML v1.0//EN
CALSCALE:GREGORIAN
METHOD:PUBLISH
X-WR-CALNAME:SKI-CLUB CRONENBERG 1929 e.V.
X-ORIGINAL-URL:https://ski-club-cronenberg.de
X-WR-CALDESC:Veranstaltungen für SKI-CLUB CRONENBERG 1929 e.V.
REFRESH-INTERVAL;VALUE=DURATION:PT1H
X-Robots-Tag:noindex
X-PUBLISHED-TTL:PT1H
BEGIN:VTIMEZONE
TZID:Europe/Paris
BEGIN:DAYLIGHT
TZOFFSETFROM:+0100
TZOFFSETTO:+0200
TZNAME:CEST
DTSTART:20210328T010000
END:DAYLIGHT
BEGIN:STANDARD
TZOFFSETFROM:+0200
TZOFFSETTO:+0100
TZNAME:CET
DTSTART:20211031T010000
END:STANDARD
BEGIN:DAYLIGHT
TZOFFSETFROM:+0100
TZOFFSETTO:+0200
TZNAME:CEST
DTSTART:20220327T010000
END:DAYLIGHT
BEGIN:STANDARD
TZOFFSETFROM:+0200
TZOFFSETTO:+0100
TZNAME:CET
DTSTART:20221030T010000
END:STANDARD
BEGIN:DAYLIGHT
TZOFFSETFROM:+0100
TZOFFSETTO:+0200
TZNAME:CEST
DTSTART:20230326T010000
END:DAYLIGHT
BEGIN:STANDARD
TZOFFSETFROM:+0200
TZOFFSETTO:+0100
TZNAME:CET
DTSTART:20231029T010000
END:STANDARD
END:VTIMEZONE
BEGIN:VEVENT
DTSTART;TZID=Europe/Paris:20220526T110000
DTEND;TZID=Europe/Paris:20220526T170000
DTSTAMP:20260425T051525
CREATED:20220501T143835Z
LAST-MODIFIED:20220519T144403Z
UID:2676-1653562800-1653584400@ski-club-cronenberg.de
SUMMARY:Himmelfahrtswanderung
DESCRIPTION:  \nTreffpunkt: 11:00 Uhr am Parkplatz CVJM Westbund\, Bundeshöhe 7 \nWanderung zum oberen Eingang Skulpturenpark Waldfrieden (bitte 9\,- € für Eintritt bereithalten) \nAnschließend Kaffeetrinken gegen 14:00 Uhr beim CVJM an der alten Schwebebahn \nMitglieder und Gäste sind herzlich willkommen! \nAnsprechpartnerin: Ulla Abé (Kontakt)
URL:https://ski-club-cronenberg.de/event/himmelfahrtswanderung-2/
END:VEVENT
END:VCALENDAR