BEGIN:VCALENDAR
VERSION:2.0
PRODID:-//SKI-CLUB CRONENBERG 1929 e.V. - ECPv6.15.20//NONSGML v1.0//EN
CALSCALE:GREGORIAN
METHOD:PUBLISH
X-WR-CALNAME:SKI-CLUB CRONENBERG 1929 e.V.
X-ORIGINAL-URL:https://ski-club-cronenberg.de
X-WR-CALDESC:Veranstaltungen für SKI-CLUB CRONENBERG 1929 e.V.
REFRESH-INTERVAL;VALUE=DURATION:PT1H
X-Robots-Tag:noindex
X-PUBLISHED-TTL:PT1H
BEGIN:VTIMEZONE
TZID:Europe/Paris
BEGIN:DAYLIGHT
TZOFFSETFROM:+0100
TZOFFSETTO:+0200
TZNAME:CEST
DTSTART:20220327T010000
END:DAYLIGHT
BEGIN:STANDARD
TZOFFSETFROM:+0200
TZOFFSETTO:+0100
TZNAME:CET
DTSTART:20221030T010000
END:STANDARD
BEGIN:DAYLIGHT
TZOFFSETFROM:+0100
TZOFFSETTO:+0200
TZNAME:CEST
DTSTART:20230326T010000
END:DAYLIGHT
BEGIN:STANDARD
TZOFFSETFROM:+0200
TZOFFSETTO:+0100
TZNAME:CET
DTSTART:20231029T010000
END:STANDARD
BEGIN:DAYLIGHT
TZOFFSETFROM:+0100
TZOFFSETTO:+0200
TZNAME:CEST
DTSTART:20240331T010000
END:DAYLIGHT
BEGIN:STANDARD
TZOFFSETFROM:+0200
TZOFFSETTO:+0100
TZNAME:CET
DTSTART:20241027T010000
END:STANDARD
END:VTIMEZONE
BEGIN:VEVENT
DTSTART;TZID=Europe/Paris:20230211T080000
DTEND;TZID=Europe/Paris:20230211T160000
DTSTAMP:20260424T150210
CREATED:20221127T183819Z
LAST-MODIFIED:20221127T183819Z
UID:2901-1676102400-1676131200@ski-club-cronenberg.de
SUMMARY:Skilanglauf
DESCRIPTION:Skilanglauf am Bremberg (Winterberg) \nNähere Informationen findest du unter Wintersport/ Skilanglauf
URL:https://ski-club-cronenberg.de/event/skilanglauf-2/
END:VEVENT
BEGIN:VEVENT
DTSTART;TZID=Europe/Paris:20230211T080000
DTEND;TZID=Europe/Paris:20230211T170000
DTSTAMP:20260424T150210
CREATED:20221127T121439Z
LAST-MODIFIED:20221127T121529Z
UID:2887-1676102400-1676134800@ski-club-cronenberg.de
SUMMARY:Ski-und Snowboardtraining
DESCRIPTION:Ski-/Snowboardtraining im Sauerland oder Skihalle Neuss \nNähere Informationen findest du unter: Wintersport/ Ski-und Snowboardtraining
URL:https://ski-club-cronenberg.de/event/ski-snowboardtraining/
END:VEVENT
END:VCALENDAR