BEGIN:VCALENDAR
VERSION:2.0
PRODID:-//SKI-CLUB CRONENBERG 1929 e.V. - ECPv6.15.20//NONSGML v1.0//EN
CALSCALE:GREGORIAN
METHOD:PUBLISH
X-WR-CALNAME:SKI-CLUB CRONENBERG 1929 e.V.
X-ORIGINAL-URL:https://ski-club-cronenberg.de
X-WR-CALDESC:Veranstaltungen für SKI-CLUB CRONENBERG 1929 e.V.
REFRESH-INTERVAL;VALUE=DURATION:PT1H
X-Robots-Tag:noindex
X-PUBLISHED-TTL:PT1H
BEGIN:VTIMEZONE
TZID:Europe/Paris
BEGIN:DAYLIGHT
TZOFFSETFROM:+0100
TZOFFSETTO:+0200
TZNAME:CEST
DTSTART:20230326T010000
END:DAYLIGHT
BEGIN:STANDARD
TZOFFSETFROM:+0200
TZOFFSETTO:+0100
TZNAME:CET
DTSTART:20231029T010000
END:STANDARD
BEGIN:DAYLIGHT
TZOFFSETFROM:+0100
TZOFFSETTO:+0200
TZNAME:CEST
DTSTART:20240331T010000
END:DAYLIGHT
BEGIN:STANDARD
TZOFFSETFROM:+0200
TZOFFSETTO:+0100
TZNAME:CET
DTSTART:20241027T010000
END:STANDARD
BEGIN:DAYLIGHT
TZOFFSETFROM:+0100
TZOFFSETTO:+0200
TZNAME:CEST
DTSTART:20250330T010000
END:DAYLIGHT
BEGIN:STANDARD
TZOFFSETFROM:+0200
TZOFFSETTO:+0100
TZNAME:CET
DTSTART:20251026T010000
END:STANDARD
END:VTIMEZONE
BEGIN:VEVENT
DTSTART;TZID=Europe/Paris:20240114T070000
DTEND;TZID=Europe/Paris:20240114T150000
DTSTAMP:20260424T170931
CREATED:20231120T144355Z
LAST-MODIFIED:20231120T144355Z
UID:3202-1705215600-1705244400@ski-club-cronenberg.de
SUMMARY:Ski-und Snowboardtraining
DESCRIPTION:je nach Schneelage im Sauerland (Start in Wuppertal  7:00 Uhr) oder in der Skihalle Neuss (Start in Wuppertal 16:30 Uhr) \nnähere Informationen findest du unter Wintersport/ Ski-und Snowboardtrainings/ -kurse
URL:https://ski-club-cronenberg.de/event/ski-und-snowboardtraining-7/
END:VEVENT
BEGIN:VEVENT
DTSTART;TZID=Europe/Paris:20240114T080000
DTEND;TZID=Europe/Paris:20240114T160000
DTSTAMP:20260424T170931
CREATED:20231120T145428Z
LAST-MODIFIED:20231120T145428Z
UID:3208-1705219200-1705248000@ski-club-cronenberg.de
SUMMARY:Skilanglauf
DESCRIPTION:nähere Informationen findest du unter Wintersport/ Skilanglauf
URL:https://ski-club-cronenberg.de/event/skilanglauf-4/
LOCATION:Langlaufgebiet Bremberg Sauerland\, Am Waltenberg 119\, Winterberg\, 59955
END:VEVENT
END:VCALENDAR