BEGIN:VCALENDAR
VERSION:2.0
PRODID:-//SKI-CLUB CRONENBERG 1929 e.V. - ECPv6.15.20//NONSGML v1.0//EN
CALSCALE:GREGORIAN
METHOD:PUBLISH
X-ORIGINAL-URL:https://ski-club-cronenberg.de
X-WR-CALDESC:Veranstaltungen für SKI-CLUB CRONENBERG 1929 e.V.
REFRESH-INTERVAL;VALUE=DURATION:PT1H
X-Robots-Tag:noindex
X-PUBLISHED-TTL:PT1H
BEGIN:VTIMEZONE
TZID:Europe/Paris
BEGIN:DAYLIGHT
TZOFFSETFROM:+0100
TZOFFSETTO:+0200
TZNAME:CEST
DTSTART:20210328T010000
END:DAYLIGHT
BEGIN:STANDARD
TZOFFSETFROM:+0200
TZOFFSETTO:+0100
TZNAME:CET
DTSTART:20211031T010000
END:STANDARD
BEGIN:DAYLIGHT
TZOFFSETFROM:+0100
TZOFFSETTO:+0200
TZNAME:CEST
DTSTART:20220327T010000
END:DAYLIGHT
BEGIN:STANDARD
TZOFFSETFROM:+0200
TZOFFSETTO:+0100
TZNAME:CET
DTSTART:20221030T010000
END:STANDARD
BEGIN:DAYLIGHT
TZOFFSETFROM:+0100
TZOFFSETTO:+0200
TZNAME:CEST
DTSTART:20230326T010000
END:DAYLIGHT
BEGIN:STANDARD
TZOFFSETFROM:+0200
TZOFFSETTO:+0100
TZNAME:CET
DTSTART:20231029T010000
END:STANDARD
END:VTIMEZONE
BEGIN:VEVENT
DTSTART;TZID=Europe/Paris:20221111T170000
DTEND;TZID=Europe/Paris:20221111T190000
DTSTAMP:20260424T181340
CREATED:20220501T144549Z
LAST-MODIFIED:20220927T175810Z
UID:2683-1668186000-1668193200@ski-club-cronenberg.de
SUMMARY:Skibörse Annahme
DESCRIPTION:Nähere Informationen findest du unter Veranstaltungen/ Skibörse.
URL:https://ski-club-cronenberg.de/event/skiboerse-annahme-geplant/
LOCATION:Schulzentrum Süd\, Jung-Stilling-Weg 45\, Wuppertal- Hahnerberg\, 42349\, Deutschland
END:VEVENT
BEGIN:VEVENT
DTSTART;TZID=Europe/Paris:20221112T120000
DTEND;TZID=Europe/Paris:20221112T150000
DTSTAMP:20260424T181340
CREATED:20220501T144642Z
LAST-MODIFIED:20220927T175541Z
UID:2685-1668254400-1668265200@ski-club-cronenberg.de
SUMMARY:Skibörse Verkauf
DESCRIPTION:Nähere Informationen findest du unter Veranstaltungen / Skibörse
URL:https://ski-club-cronenberg.de/event/skiboerse-verkauf-geplant/
LOCATION:Schulzentrum Süd\, Jung-Stilling-Weg 45\, Wuppertal- Hahnerberg\, 42349\, Deutschland
END:VEVENT
END:VCALENDAR