BEGIN:VCALENDAR
VERSION:2.0
PRODID:-//SKI-CLUB CRONENBERG 1929 e.V. - ECPv6.15.20//NONSGML v1.0//EN
CALSCALE:GREGORIAN
METHOD:PUBLISH
X-ORIGINAL-URL:https://ski-club-cronenberg.de
X-WR-CALDESC:Veranstaltungen für SKI-CLUB CRONENBERG 1929 e.V.
REFRESH-INTERVAL;VALUE=DURATION:PT1H
X-Robots-Tag:noindex
X-PUBLISHED-TTL:PT1H
BEGIN:VTIMEZONE
TZID:Europe/Paris
BEGIN:DAYLIGHT
TZOFFSETFROM:+0100
TZOFFSETTO:+0200
TZNAME:CEST
DTSTART:20220327T010000
END:DAYLIGHT
BEGIN:STANDARD
TZOFFSETFROM:+0200
TZOFFSETTO:+0100
TZNAME:CET
DTSTART:20221030T010000
END:STANDARD
BEGIN:DAYLIGHT
TZOFFSETFROM:+0100
TZOFFSETTO:+0200
TZNAME:CEST
DTSTART:20230326T010000
END:DAYLIGHT
BEGIN:STANDARD
TZOFFSETFROM:+0200
TZOFFSETTO:+0100
TZNAME:CET
DTSTART:20231029T010000
END:STANDARD
BEGIN:DAYLIGHT
TZOFFSETFROM:+0100
TZOFFSETTO:+0200
TZNAME:CEST
DTSTART:20240331T010000
END:DAYLIGHT
BEGIN:STANDARD
TZOFFSETFROM:+0200
TZOFFSETTO:+0100
TZNAME:CET
DTSTART:20241027T010000
END:STANDARD
END:VTIMEZONE
BEGIN:VEVENT
DTSTART;TZID=Europe/Paris:20230114T080000
DTEND;TZID=Europe/Paris:20230114T160000
DTSTAMP:20260424T151120
CREATED:20221127T183742Z
LAST-MODIFIED:20221127T183742Z
UID:2898-1673683200-1673712000@ski-club-cronenberg.de
SUMMARY:Skilanglauf
DESCRIPTION:Skilanglauf am Bremberg (Winterberg) \nNähere Informationen findest du unter Wintersport/ Skilanglauf
URL:https://ski-club-cronenberg.de/event/skilanglauf/
END:VEVENT
BEGIN:VEVENT
DTSTART;TZID=Europe/Paris:20230114T080000
DTEND;TZID=Europe/Paris:20230114T170000
DTSTAMP:20260424T151120
CREATED:20221127T121024Z
LAST-MODIFIED:20221127T121024Z
UID:2885-1673683200-1673715600@ski-club-cronenberg.de
SUMMARY:Ski- und Snowboardtraining
DESCRIPTION:Ski-/Snowboardtraining im Sauerland oder Skihalle Neuss \nNähere Informationen findest du unter: Wintersport/ Ski-und Snowboardtraining
URL:https://ski-club-cronenberg.de/event/ski-und-snowboardtraining-2/
END:VEVENT
END:VCALENDAR