BEGIN:VCALENDAR
VERSION:2.0
PRODID:-//SKI-CLUB CRONENBERG 1929 e.V. - ECPv6.15.20//NONSGML v1.0//EN
CALSCALE:GREGORIAN
METHOD:PUBLISH
X-ORIGINAL-URL:https://ski-club-cronenberg.de
X-WR-CALDESC:Veranstaltungen für SKI-CLUB CRONENBERG 1929 e.V.
REFRESH-INTERVAL;VALUE=DURATION:PT1H
X-Robots-Tag:noindex
X-PUBLISHED-TTL:PT1H
BEGIN:VTIMEZONE
TZID:Europe/Paris
BEGIN:DAYLIGHT
TZOFFSETFROM:+0100
TZOFFSETTO:+0200
TZNAME:CEST
DTSTART:20220327T010000
END:DAYLIGHT
BEGIN:STANDARD
TZOFFSETFROM:+0200
TZOFFSETTO:+0100
TZNAME:CET
DTSTART:20221030T010000
END:STANDARD
BEGIN:DAYLIGHT
TZOFFSETFROM:+0100
TZOFFSETTO:+0200
TZNAME:CEST
DTSTART:20230326T010000
END:DAYLIGHT
BEGIN:STANDARD
TZOFFSETFROM:+0200
TZOFFSETTO:+0100
TZNAME:CET
DTSTART:20231029T010000
END:STANDARD
BEGIN:DAYLIGHT
TZOFFSETFROM:+0100
TZOFFSETTO:+0200
TZNAME:CEST
DTSTART:20240331T010000
END:DAYLIGHT
BEGIN:STANDARD
TZOFFSETFROM:+0200
TZOFFSETTO:+0100
TZNAME:CET
DTSTART:20241027T010000
END:STANDARD
END:VTIMEZONE
BEGIN:VEVENT
DTSTART;TZID=Europe/Paris:20230604T140000
DTEND;TZID=Europe/Paris:20230604T180000
DTSTAMP:20260424T070558
CREATED:20230413T154414Z
LAST-MODIFIED:20230507T143439Z
UID:2981-1685887200-1685901600@ski-club-cronenberg.de
SUMMARY:Sommerfest
DESCRIPTION:Sommerfest 2023 \nHerzliche Einladung für  unsere Mitglieder und deren Gäste  \n  – Unterhaltung\, Spiel und Spaß für Jung und Alt – \nFür das leibliche Wohl ist gesorgt .  \nDer Eintritt ist frei. \nNähere Informationen findet ihr unter Sommerfest
URL:https://ski-club-cronenberg.de/event/sommerfest/
LOCATION:Siedlerheim der Siedlung Wilhelmring e.V.\, Neuenhaus 94\, Wuppertal\, 42349
END:VEVENT
END:VCALENDAR