BEGIN:VCALENDAR
VERSION:2.0
PRODID:-//SKI-CLUB CRONENBERG 1929 e.V. - ECPv6.15.20//NONSGML v1.0//EN
CALSCALE:GREGORIAN
METHOD:PUBLISH
X-WR-CALNAME:SKI-CLUB CRONENBERG 1929 e.V.
X-ORIGINAL-URL:https://ski-club-cronenberg.de
X-WR-CALDESC:Veranstaltungen für SKI-CLUB CRONENBERG 1929 e.V.
REFRESH-INTERVAL;VALUE=DURATION:PT1H
X-Robots-Tag:noindex
X-PUBLISHED-TTL:PT1H
BEGIN:VTIMEZONE
TZID:Europe/Paris
BEGIN:DAYLIGHT
TZOFFSETFROM:+0100
TZOFFSETTO:+0200
TZNAME:CEST
DTSTART:20230326T010000
END:DAYLIGHT
BEGIN:STANDARD
TZOFFSETFROM:+0200
TZOFFSETTO:+0100
TZNAME:CET
DTSTART:20231029T010000
END:STANDARD
BEGIN:DAYLIGHT
TZOFFSETFROM:+0100
TZOFFSETTO:+0200
TZNAME:CEST
DTSTART:20240331T010000
END:DAYLIGHT
BEGIN:STANDARD
TZOFFSETFROM:+0200
TZOFFSETTO:+0100
TZNAME:CET
DTSTART:20241027T010000
END:STANDARD
BEGIN:DAYLIGHT
TZOFFSETFROM:+0100
TZOFFSETTO:+0200
TZNAME:CEST
DTSTART:20250330T010000
END:DAYLIGHT
BEGIN:STANDARD
TZOFFSETFROM:+0200
TZOFFSETTO:+0100
TZNAME:CET
DTSTART:20251026T010000
END:STANDARD
END:VTIMEZONE
BEGIN:VEVENT
DTSTART;TZID=Europe/Paris:20240309T150000
DTEND;TZID=Europe/Paris:20240309T180000
DTSTAMP:20260424T183249
CREATED:20231120T144638Z
LAST-MODIFIED:20240124T153417Z
UID:3206-1709996400-1710007200@ski-club-cronenberg.de
SUMMARY:Ski- und Snowboardtraining
DESCRIPTION: in der Skihalle Neuss (Start in Wuppertal 15:15 Uhr) \nnähere Informationen findest du unter Wintersport/ Ski-und Snowboardtrainings/ -kurse
URL:https://ski-club-cronenberg.de/event/ski-und-snowboardtraining-9/
LOCATION:Skihalle Neuss
END:VEVENT
BEGIN:VEVENT
DTSTART;TZID=Europe/Paris:20240317T080000
DTEND;TZID=Europe/Paris:20240317T160000
DTSTAMP:20260424T183249
CREATED:20231120T145851Z
LAST-MODIFIED:20231120T145851Z
UID:3214-1710662400-1710691200@ski-club-cronenberg.de
SUMMARY:Skilanglauf
DESCRIPTION:nähere Informationen findest du unter Wintersport/ Skilanglauf
URL:https://ski-club-cronenberg.de/event/skilanglauf-6/
LOCATION:Langlaufgebiet Bremberg Sauerland\, Am Waltenberg 119\, Winterberg\, 59955
END:VEVENT
END:VCALENDAR